BEGIN:VCALENDAR
VERSION:2.0
PRODID:-//wp-events-plugin.com//7.2.3.1//EN
TZID:Europe/Berlin
X-WR-TIMEZONE:Europe/Berlin
BEGIN:VEVENT
UID:589@detmold-lutherisch.de
DTSTART;TZID=Europe/Berlin:20221104T190000
DTEND;TZID=Europe/Berlin:20221104T203000
DTSTAMP:20220902T065931Z
URL:https://www.detmold-lutherisch.de/termine/vokalensemble-horizonte/
SUMMARY:Vokalensemble der Martin-Luther-Kirche Ltg. Maximilian Jenkins | En
 semble Horizonte Ltg. Dr. Jörg-Peter Mittmann
DESCRIPTION:Alt und neu\nEs ist schon eine kleine Tradition: Einmal im Jahr
  musiziert das Ensemble Horizonte gemeinsam mit dem Vokalensemble der Mart
 in-Luther-Kantorei in unserer Kirche. Neben zeitgenössischer Kammermusik 
 erklingen dann aktuelle\, oft aber auch sehr viel ältere Vokalkomposition
 en. Das diesjährige Konzert unter der Leitung von Jörg-Peter Mittmann un
 d Max Jenkins  steht ganz im Zeichen unseres Gemeindejubiläums. Und da s
 ich fast auf den Tag genau außerdem der Todestag von Heinrich Schütz zum
  350. Mal jährt\, wird auch dieser Großmeister evangelischer Kirchenmusi
 k eine wesentliche Rolle im Programm spielen. Lassen Sie sich inspirieren 
 vom vielleicht ungewöhnlichen Aufeinandertreffen sehr bekannter Chormotet
 ten und innovativer Instrumentalklänge!
ATTACH;FMTTYPE=image/jpeg:https://www.detmold-lutherisch.de/wp-content/upl
 oads/2019/10/Bild-Vokalensemble-Passionskonzert-2018-1.jpg
CATEGORIES:Musik, Film, Kunst und Kultur
LOCATION:Martin-Luther-Kirche\, Schülerstraße 12\, Detmold\, Nordrhein-We
 stfalen\, 32756\, Lippe\, Deutschland
GEO:51.9346822;8.88075559999993
X-APPLE-STRUCTURED-LOCATION;VALUE=URI;X-ADDRESS=Schülerstraße 12\, Detmol
 d\, Nordrhein-Westfalen\, 32756\, Lippe\, Deutschland;X-APPLE-RADIUS=100;X
 -TITLE=Martin-Luther-Kirche:geo:51.9346822,8.88075559999993
END:VEVENT
BEGIN:VTIMEZONE
TZID:Europe/Berlin
X-LIC-LOCATION:Europe/Berlin
BEGIN:STANDARD
DTSTART:20221030T020000
TZOFFSETFROM:+0200
TZOFFSETTO:+0100
TZNAME:CET
END:STANDARD
END:VTIMEZONE
END:VCALENDAR