BEGIN:VCALENDAR
VERSION:2.0
PRODID:-//wp-events-plugin.com//7.2.3.1//EN
TZID:Europe/Berlin
X-WR-TIMEZONE:Europe/Berlin
BEGIN:VEVENT
UID:1333@detmold-lutherisch.de
DTSTART;TZID=Europe/Berlin:20240517T193000
DTEND;TZID=Europe/Berlin:20240517T203000
DTSTAMP:20240404T070046Z
URL:https://www.detmold-lutherisch.de/termine/vogel-stimmen-fest/
SUMMARY:„Vogel.Stimmen.Fest“
DESCRIPTION:\nIn dem humorvollen Konzertprogramm „Vogel.Stimmen.Fest“ v
 erknüpfen die Musikerinnen und Musiker des Ensembles&nbsp\; Seicento voca
 le das Sprachenwunder des Pfingstfestes mit einem Sangeswettstreit der Mus
 en des Olymps und dem Gesang der Vögel\, der Natur und nicht zuletzt der 
 Engel. Auf die Zuhörer warten klangprächtige mehrchörige Werke der Spä
 trenaissance sowie die Komposition „Nacht.Tick.All“ von Moritz Eggert\
 , ein hochvirtuoses Zusammenspiel von Solo-Blockflöte und menschlichen St
 immen\, mal Vogellaute imitierend\, mal beschwörend: Ein aberwitziges Nat
 ur-Theater in Musik.\n\n\n\nDer Eintritt zum Konzert ist frei\, um Spenden
  wird freundlich gebeten.\n\n\n\nWeitere Informationen zum Ensemble finden
  Sie unter www.seicentovocale.de\n
CATEGORIES:Musik, Film, Kunst und Kultur
LOCATION:Martin-Luther-Kirche\, Schülerstraße 12\, Detmold\, Nordrhein-We
 stfalen\, 32756\, Lippe\, Deutschland
GEO:51.9346822;8.88075559999993
X-APPLE-STRUCTURED-LOCATION;VALUE=URI;X-ADDRESS=Schülerstraße 12\, Detmol
 d\, Nordrhein-Westfalen\, 32756\, Lippe\, Deutschland;X-APPLE-RADIUS=100;X
 -TITLE=Martin-Luther-Kirche:geo:51.9346822,8.88075559999993
END:VEVENT
BEGIN:VTIMEZONE
TZID:Europe/Berlin
X-LIC-LOCATION:Europe/Berlin
BEGIN:DAYLIGHT
DTSTART:20240331T030000
TZOFFSETFROM:+0100
TZOFFSETTO:+0200
TZNAME:CEST
END:DAYLIGHT
END:VTIMEZONE
END:VCALENDAR