BEGIN:VCALENDAR
VERSION:2.0
PRODID:-//wp-events-plugin.com//7.2.3.1//EN
TZID:Europe/Berlin
X-WR-TIMEZONE:Europe/Berlin
BEGIN:VEVENT
UID:791@detmold-lutherisch.de
DTSTART:20221023T090000Z
DTEND:20221023T103000Z
DTSTAMP:20221022T071707Z
URL:https://www.detmold-lutherisch.de/termine/vis-a-vis-gd-p-kruschke-frue
 hlingserwachen-mit-dem-landestheater-detmold/
SUMMARY:Vis-à-vis-GD  P Kruschke „Frühlingserwachen“ mit dem Landesth
 eater Detmold
DESCRIPTION:
CATEGORIES:Besondere Gottesdienste,Musik, Film, Kunst und Kultur
LOCATION:St. Michael im Kampe Hiddesen\, Im Kampe 18\, Detmold\, 32760\, De
 utschland
GEO:51.9231784;8.850869999999986
X-APPLE-STRUCTURED-LOCATION;VALUE=URI;X-ADDRESS=Im Kampe 18\, Detmold\, 327
 60\, Deutschland;X-APPLE-RADIUS=100;X-TITLE=St. Michael im Kampe Hiddesen:
 geo:51.9231784,8.850869999999986
END:VEVENT
END:VCALENDAR