BEGIN:VCALENDAR
VERSION:2.0
PRODID:-//wp-events-plugin.com//7.2.3.1//EN
TZID:Europe/Berlin
X-WR-TIMEZONE:Europe/Berlin
BEGIN:VEVENT
UID:1108@detmold-lutherisch.de
DTSTART;TZID=Europe/Berlin:20230906T090000
DTEND;TZID=Europe/Berlin:20230906T170000
DTSTAMP:20230628T093822Z
URL:https://www.detmold-lutherisch.de/termine/tagesausflug-fuer-senioren-z
 ur-landesgartenschau-in-hoexter/
SUMMARY:Tagesausflug für Senioren zur Landesgartenschau in Höxter
DESCRIPTION:\n\n\n\n\nDie Landesgartenschau von NRW findet in diesem Jahr i
 n Höxter statt – also gar nicht weit entfernt von Detmold. Gartenkunst\
 , farbenfrohe Blumenbeete\, Naturgarten und vieles mehr erwartet die Besuc
 her in diesem Sommer an der Weser. Das Gartenschaugelände erstreckt sich 
 vom Weserbogen am Welterbe Corvey entlang der Weserpromenade bis zu den Wa
 llanlagen der Altstadt von Höxter.Wir – die evangelisch-lutherische und
  die evangelisch-reformierte Kirchengemeinde Detmold-Ost – laden Sie ein
 \, mit uns auf Entdeckungsfahrt zu gehen!\n\n\n\nUm 9.00 Uhr starten wir m
 it dem Bus in Detmold (Theater und Talstraße). Nach der Ankunft in Höxte
 r haben wir eine 90minütige Führung auf dem Gelände der Landesgartensch
 au organisiert. Nach einem gemeinsamen Mittagessen besteht die Möglichkei
 t\, noch einmal eigenständig das Gelände zu erkunden bevor wir um 15.00 
 Uhr gemeinsam Kaffee trinken. Im Anschluss treten wir die Rückfahrt nach 
 Detmold an\, wo wir gegen 17.00 Uhr wieder eintreffen werden.\n\n\n\nDie G
 anztagesfahrt kostet 59\,- € pro Person und beinhaltet die Busfahrt\, Ei
 ntritt\, Führung\, Mittagessen und Kaffeetrinken.\n\n\n\nWollen Sie dabei
  sein? Dann melden Sie sich schnell an. Die Anmeldung erfolgt für beide G
 emeinden über das Gemeindebüro der evangelisch-lutherischen Kirchengemei
 nde Detmold:\n\n\n\nTelefon: 05231 23072E-Mail: gemeindeamt@detmold-luther
 isch.de\n\n\n\nÖffnungszeiten: dienstags und donnerstags: 9.00 – 12.00 
 Uhr/ mittwochs: 14.00 – 17.00 Uhr (Bei Anmeldung sind die Kosten bar im 
 Büro zu bezahlen oder per Überweisung\, Kontonr.: IBAN DE05 3506 0190 20
 02 3480 23  „Höxter“)\n
END:VEVENT
BEGIN:VTIMEZONE
TZID:Europe/Berlin
X-LIC-LOCATION:Europe/Berlin
BEGIN:DAYLIGHT
DTSTART:20230326T030000
TZOFFSETFROM:+0100
TZOFFSETTO:+0200
TZNAME:CEST
END:DAYLIGHT
END:VTIMEZONE
END:VCALENDAR