BEGIN:VCALENDAR
VERSION:2.0
PRODID:-//wp-events-plugin.com//7.2.3.1//EN
TZID:Europe/Berlin
X-WR-TIMEZONE:Europe/Berlin
BEGIN:VEVENT
UID:1896@detmold-lutherisch.de
DTSTART;TZID=Europe/Berlin:20260508T190000
DTEND;TZID=Europe/Berlin:20260508T200000
DTSTAMP:20260214T185217Z
URL:https://www.detmold-lutherisch.de/termine/romantische-impressionen-5-k
 onzert-des-orgelfruehlings-2026/
SUMMARY:„Romantische Impressionen“ 5. Konzert des Orgelfrühlings 2026
DESCRIPTION:\nDuo Himmelstöne\n\n\n\nDie Klangwelt des 19. Jahrhunderts en
 tfaltet in der ausdrucksstarken Verbindung vonBaritonstimme und Orgel eine
  besondere Intensität: Das warme Timbre der Stimme trifftauf die lyrische
  und zugleich majestätische Fülle des Orgelklangs und schafft einenDialo
 g\, der von inniger Empfindung bis zu leidenschaftlicher Größe reicht. D
 ieausgewählten Werke\, insbesondere die Musik des Spätromantikers Josef 
 G. Rheinbergeranlässlich seines 125. Todesjahres und dazu Kompositionen s
 einer Lehrer\, Schüler undFreunde\, lassen die poetischen und emotionalen
  Facetten der deutschen undfranzösischen Romantik lebendig werden und lad
 en dazu ein\, diese Epoche aus einerreizvollen musikalischen Kombination i
 n magischen Momenten neu zu entdecken.\n\n\n\n&nbsp\;Andreas Elias Post - 
 Bariton\n\n\n\nThorsten Andreas Pech - Orgel\n\n\n\nDer Eintritt ist frei.
  Um Spenden wird gebeten.\n
CATEGORIES:Musik, Film, Kunst und Kultur,Orgelkonzert
END:VEVENT
BEGIN:VTIMEZONE
TZID:Europe/Berlin
X-LIC-LOCATION:Europe/Berlin
BEGIN:DAYLIGHT
DTSTART:20260329T030000
TZOFFSETFROM:+0100
TZOFFSETTO:+0200
TZNAME:CEST
END:DAYLIGHT
END:VTIMEZONE
END:VCALENDAR