BEGIN:VCALENDAR
VERSION:2.0
PRODID:-//wp-events-plugin.com//7.2.3.1//EN
TZID:Europe/Berlin
X-WR-TIMEZONE:Europe/Berlin
BEGIN:VEVENT
UID:1863@detmold-lutherisch.de
DTSTART;TZID=Europe/Berlin:20260404T230000
DTEND;TZID=Europe/Berlin:20260405T000000
DTSTAMP:20260401T132350Z
URL:https://www.detmold-lutherisch.de/termine/osternacht-gd-pfr-erichsmeie
 r-kirchhof-praedikant-roedding-vikar-beier/
SUMMARY:Osternacht „Von der Dunkelheit ins Licht“ GD Pfr. Erichsmeier\,
  Kirchhof\, Prädikant Rödding\, Vikar Beier
DESCRIPTION:
CATEGORIES:Gottesdienste Martin-Luther-Kirche
END:VEVENT
BEGIN:VTIMEZONE
TZID:Europe/Berlin
X-LIC-LOCATION:Europe/Berlin
BEGIN:DAYLIGHT
DTSTART:20260329T030000
TZOFFSETFROM:+0100
TZOFFSETTO:+0200
TZNAME:CEST
END:DAYLIGHT
END:VTIMEZONE
END:VCALENDAR