BEGIN:VCALENDAR
VERSION:2.0
PRODID:-//wp-events-plugin.com//7.2.3.1//EN
TZID:Europe/Berlin
X-WR-TIMEZONE:Europe/Berlin
BEGIN:VEVENT
UID:1446@detmold-lutherisch.de
DTSTART;TZID=Europe/Berlin:20240906T193000
DTEND;TZID=Europe/Berlin:20240906T210000
DTSTAMP:20240814T120517Z
URL:https://www.detmold-lutherisch.de/termine/lolimpia-konzertantes-projek
 t-des-ensemble-boulevard-baroque/
SUMMARY:"L'Olimpia" Konzertantes Projekt des Ensemble Boulevard Baroque
DESCRIPTION:\nDie vergessenene und verbotenen Arien von Alessandro Scarlatt
 i und der neapolitanische Stil\n\n\n\nEnsemble Boulevard Baroque\n\n\n\nSh
 alev Ad-El\, Cembalo und musikalische Leitung\n\n\n\nTehila Nini Goldstein
 \, Sopran\n
LOCATION:Martin-Luther-Kirche\, Schülerstraße 12\, Detmold\, Nordrhein-We
 stfalen\, 32756\, Lippe\, Deutschland
GEO:51.9346822;8.88075559999993
X-APPLE-STRUCTURED-LOCATION;VALUE=URI;X-ADDRESS=Schülerstraße 12\, Detmol
 d\, Nordrhein-Westfalen\, 32756\, Lippe\, Deutschland;X-APPLE-RADIUS=100;X
 -TITLE=Martin-Luther-Kirche:geo:51.9346822,8.88075559999993
END:VEVENT
BEGIN:VTIMEZONE
TZID:Europe/Berlin
X-LIC-LOCATION:Europe/Berlin
BEGIN:DAYLIGHT
DTSTART:20240331T030000
TZOFFSETFROM:+0100
TZOFFSETTO:+0200
TZNAME:CEST
END:DAYLIGHT
END:VTIMEZONE
END:VCALENDAR