BEGIN:VCALENDAR
VERSION:2.0
PRODID:-//wp-events-plugin.com//7.2.3.1//EN
TZID:Europe/Berlin
X-WR-TIMEZONE:Europe/Berlin
BEGIN:VEVENT
UID:1860@detmold-lutherisch.de
DTSTART;TZID=Europe/Berlin:20260403T083000
DTEND;TZID=Europe/Berlin:20260403T103000
DTSTAMP:20260116T125739Z
URL:https://www.detmold-lutherisch.de/termine/kreuzweg-an-den-externsteine
 n-pfr-erichsmeier/
SUMMARY:Kreuzweg an den Externsteinen Pfr. Erichsmeier
DESCRIPTION:
CATEGORIES:Gottesdienste Martin-Luther-Kirche
LOCATION:Parkplatz Ehrendenkmal\, Schliepsteinweg\, Schliepsteinweg 23\, Ho
 rn-Bad Meinberg\, 32805\, Deutschland\, Deutschland
GEO:51.874685;8.912569
X-APPLE-STRUCTURED-LOCATION;VALUE=URI;X-ADDRESS=Schliepsteinweg 23\, Horn-B
 ad Meinberg\, 32805\, Deutschland\, Deutschland;X-APPLE-RADIUS=100;X-TITLE
 =Parkplatz Ehrendenkmal\, Schliepsteinweg:geo:51.874685,8.912569
END:VEVENT
BEGIN:VTIMEZONE
TZID:Europe/Berlin
X-LIC-LOCATION:Europe/Berlin
BEGIN:DAYLIGHT
DTSTART:20260329T030000
TZOFFSETFROM:+0100
TZOFFSETTO:+0200
TZNAME:CEST
END:DAYLIGHT
END:VTIMEZONE
END:VCALENDAR