BEGIN:VCALENDAR
VERSION:2.0
PRODID:-//wp-events-plugin.com//7.2.3.1//EN
TZID:Europe/Berlin
X-WR-TIMEZONE:Europe/Berlin
BEGIN:VEVENT
UID:1843@detmold-lutherisch.de
DTSTART;TZID=Europe/Berlin:20260315T183000
DTEND;TZID=Europe/Berlin:20260315T193000
DTSTAMP:20251225T163718Z
URL:https://www.detmold-lutherisch.de/termine/konzert-nota-bene/
SUMMARY:Konzert nota bene
DESCRIPTION:\nNähere Informationen entnehmen Sie bitte der tagesaktuellen 
 Presse oder auf der Website des Chores: https://www.nota-bene-detmold.net/
 \n
CATEGORIES:Musik, Film, Kunst und Kultur
LOCATION:Martin-Luther-Kirche\, Schülerstraße 12\, Detmold\, Nordrhein-We
 stfalen\, 32756\, Lippe\, Deutschland
GEO:51.9346822;8.88075559999993
X-APPLE-STRUCTURED-LOCATION;VALUE=URI;X-ADDRESS=Schülerstraße 12\, Detmol
 d\, Nordrhein-Westfalen\, 32756\, Lippe\, Deutschland;X-APPLE-RADIUS=100;X
 -TITLE=Martin-Luther-Kirche:geo:51.9346822,8.88075559999993
END:VEVENT
BEGIN:VTIMEZONE
TZID:Europe/Berlin
X-LIC-LOCATION:Europe/Berlin
BEGIN:STANDARD
DTSTART:20251026T020000
TZOFFSETFROM:+0200
TZOFFSETTO:+0100
TZNAME:CET
END:STANDARD
END:VTIMEZONE
END:VCALENDAR