BEGIN:VCALENDAR
VERSION:2.0
PRODID:-//wp-events-plugin.com//7.2.3.1//EN
TZID:Europe/Berlin
X-WR-TIMEZONE:Europe/Berlin
BEGIN:VEVENT
UID:1386@detmold-lutherisch.de
DTSTART;TZID=Europe/Berlin:20240609T180000
DTEND;TZID=Europe/Berlin:20240609T193000
DTSTAMP:20240524T153356Z
URL:https://www.detmold-lutherisch.de/termine/konzert-in-memoriam-lukas-da
 vid/
SUMMARY:Konzert in Memoriam Lukas David
DESCRIPTION:\nHiddesen. Am 9. Juni 2024 um 18:00 Uhr findet in der evangeli
 sch-lutherischen Kirche St. Michael im Kampe in Hiddesen für den berühmt
 en Geiger und Professor Lukas David ein Gedenkkonzert statt. Seine ehemali
 gen Schüler und Freunde ehren ihn mit Werken\, die ihm ein Anliegen waren
 .\n\n\n\nDie veranstaltende Gemeinde und der mitwirkende Organist Michael 
 Schmidt freuen sich mit den ehemaligen Schülern und Freunden des Maestros
 \, die zum Teil bis aus der Türkei und Italien angereist kommen\, zu dies
 em besonderen Konzert einladen zu dürfen.\n\n\n\nDer Eintritt ist frei 
 – am Ausgang erfolgt eine Kollekte.\n
ATTACH;FMTTYPE=image/jpeg:https://www.detmold-lutherisch.de/wp-content/upl
 oads/2024/04/Plakat_20240609_Entwurf3_inklBeschnitt-scaled.jpg
CATEGORIES:Musik, Film, Kunst und Kultur,St. Michael
LOCATION:St. Michael im Kampe Hiddesen\, Im Kampe 18\, Detmold\, 32760\, De
 utschland
GEO:51.9231784;8.850869999999986
X-APPLE-STRUCTURED-LOCATION;VALUE=URI;X-ADDRESS=Im Kampe 18\, Detmold\, 327
 60\, Deutschland;X-APPLE-RADIUS=100;X-TITLE=St. Michael im Kampe Hiddesen:
 geo:51.9231784,8.850869999999986
END:VEVENT
BEGIN:VTIMEZONE
TZID:Europe/Berlin
X-LIC-LOCATION:Europe/Berlin
BEGIN:DAYLIGHT
DTSTART:20240331T030000
TZOFFSETFROM:+0100
TZOFFSETTO:+0200
TZNAME:CEST
END:DAYLIGHT
END:VTIMEZONE
END:VCALENDAR