BEGIN:VCALENDAR
VERSION:2.0
PRODID:-//wp-events-plugin.com//7.2.3.1//EN
TZID:Europe/Berlin
X-WR-TIMEZONE:Europe/Berlin
BEGIN:VEVENT
UID:1062@detmold-lutherisch.de
DTSTART;TZID=Europe/Berlin:20230526T193000
DTEND;TZID=Europe/Berlin:20230526T203000
DTSTAMP:20230523T092645Z
URL:https://www.detmold-lutherisch.de/termine/konzert-duoabend-mit-gaube-h
 ong-cello-und-klavier/
SUMMARY:Konzert: Duoabend mit Gaube & Hong (Cello und Klavier)
DESCRIPTION:\nJonas Gaube und Minsoo Hong gehören auf ihren Instrument zu 
 den vielversprechendsten Nachwuchskünstlern des aktuellen Konzertlebens. 
 Mit ihrem Duoabend mit Brahms' Werken für Cello und Klavier wollen sie de
 n 190. Geburtstag eines der größten deutschen Komponisten (07.05.1833) n
 achfeiern. Die ev.-luth. Kirchengemeinde lädt herzlich zu diesem besonder
 en Konzertabend ein! \n
LOCATION:Martin-Luther-Kirche\, Schülerstraße 12\, Detmold\, Nordrhein-We
 stfalen\, 32756\, Lippe\, Deutschland
GEO:51.9346822;8.88075559999993
X-APPLE-STRUCTURED-LOCATION;VALUE=URI;X-ADDRESS=Schülerstraße 12\, Detmol
 d\, Nordrhein-Westfalen\, 32756\, Lippe\, Deutschland;X-APPLE-RADIUS=100;X
 -TITLE=Martin-Luther-Kirche:geo:51.9346822,8.88075559999993
END:VEVENT
BEGIN:VTIMEZONE
TZID:Europe/Berlin
X-LIC-LOCATION:Europe/Berlin
BEGIN:DAYLIGHT
DTSTART:20230326T030000
TZOFFSETFROM:+0100
TZOFFSETTO:+0200
TZNAME:CEST
END:DAYLIGHT
END:VTIMEZONE
END:VCALENDAR