BEGIN:VCALENDAR
VERSION:2.0
PRODID:-//wp-events-plugin.com//7.2.3.1//EN
TZID:Europe/Berlin
X-WR-TIMEZONE:Europe/Berlin
BEGIN:VEVENT
UID:1934@detmold-lutherisch.de
DTSTART;TZID=Europe/Berlin:20260621T170000
DTEND;TZID=Europe/Berlin:20260621T180000
DTSTAMP:20260409T111258Z
URL:https://www.detmold-lutherisch.de/termine/jubilaeumskonzert-des-chores
 -der-dreifaltigkeitskirche/
SUMMARY:Jubiläumskonzert des Chores der Dreifaltigkeitskirche
DESCRIPTION:\nUnter der Leitung von Vera Holstein gestaltet der Chor der Dr
 eifaltigkeitskirche ein vielfältiges Programm.\n\n\n\nDer Eintritt ist fr
 ei. Um Spenden wird gebeten.\n
CATEGORIES:Musik, Film, Kunst und Kultur
LOCATION:Dreifaltigkeitskirche\, Wittenberger Weg 2\, Detmold\, 32756\, Deu
 tschland
GEO:51.948004;8.878194
X-APPLE-STRUCTURED-LOCATION;VALUE=URI;X-ADDRESS=Wittenberger Weg 2\, Detmol
 d\, 32756\, Deutschland;X-APPLE-RADIUS=100;X-TITLE=Dreifaltigkeitskirche:g
 eo:51.948004,8.878194
END:VEVENT
BEGIN:VTIMEZONE
TZID:Europe/Berlin
X-LIC-LOCATION:Europe/Berlin
BEGIN:DAYLIGHT
DTSTART:20260329T030000
TZOFFSETFROM:+0100
TZOFFSETTO:+0200
TZNAME:CEST
END:DAYLIGHT
END:VTIMEZONE
END:VCALENDAR