BEGIN:VCALENDAR
VERSION:2.0
PRODID:-//wp-events-plugin.com//7.2.3.1//EN
TZID:Europe/Berlin
X-WR-TIMEZONE:Europe/Berlin
BEGIN:VEVENT
UID:1921@detmold-lutherisch.de
DTSTART;TZID=Europe/Berlin:20260426T110000
DTEND;TZID=Europe/Berlin:20260426T120000
DTSTAMP:20260326T160258Z
URL:https://www.detmold-lutherisch.de/termine/gemeinsamer-gd-in-der-ref-ki
 rche-hiddesen-18/
SUMMARY:gemeinsamer GD in der Ref. Kirche Hiddesen
DESCRIPTION:
CATEGORIES:Gottesdienste St. Michael
LOCATION:Ev.-ref. Kirche Hiddesen\, Akazienstr. 3\, Detmold\, Nordrhein-Wes
 tfalen\, 32760\, Deutschland
GEO:51.924544;8.843969
X-APPLE-STRUCTURED-LOCATION;VALUE=URI;X-ADDRESS=Akazienstr. 3\, Detmold\, N
 ordrhein-Westfalen\, 32760\, Deutschland;X-APPLE-RADIUS=100;X-TITLE=Ev.-re
 f. Kirche Hiddesen:geo:51.924544,8.843969
END:VEVENT
BEGIN:VTIMEZONE
TZID:Europe/Berlin
X-LIC-LOCATION:Europe/Berlin
BEGIN:DAYLIGHT
DTSTART:20260329T030000
TZOFFSETFROM:+0100
TZOFFSETTO:+0200
TZNAME:CEST
END:DAYLIGHT
END:VTIMEZONE
END:VCALENDAR