BEGIN:VCALENDAR
VERSION:2.0
PRODID:-//wp-events-plugin.com//7.2.3.1//EN
TZID:Europe/Berlin
X-WR-TIMEZONE:Europe/Berlin
BEGIN:VEVENT
UID:1928@detmold-lutherisch.de
DTSTART;TZID=Europe/Berlin:20260419T093000
DTEND;TZID=Europe/Berlin:20260419T103000
DTSTAMP:20260326T160152Z
URL:https://www.detmold-lutherisch.de/termine/gemeinsamer-gd-in-der-kath-k
 irche-hiddesen-19/
SUMMARY:gemeinsamer GD in der Kath. Kirche Hiddesen
DESCRIPTION:\n\n\n\n\n\n\n\n
CATEGORIES:Gottesdienste St. Michael
LOCATION:St. Stephanus\, katholische Kirche Hiddesen\, Haselnussweg 2\, Det
 mold\, Nordrhein-Westfalen\, 32760\, Deutschland
GEO:51.921842;8.843994
X-APPLE-STRUCTURED-LOCATION;VALUE=URI;X-ADDRESS=Haselnussweg 2\, Detmold\, 
 Nordrhein-Westfalen\, 32760\, Deutschland;X-APPLE-RADIUS=100;X-TITLE=St. S
 tephanus\, katholische Kirche Hiddesen:geo:51.921842,8.843994
END:VEVENT
BEGIN:VTIMEZONE
TZID:Europe/Berlin
X-LIC-LOCATION:Europe/Berlin
BEGIN:DAYLIGHT
DTSTART:20260329T030000
TZOFFSETFROM:+0100
TZOFFSETTO:+0200
TZNAME:CEST
END:DAYLIGHT
END:VTIMEZONE
END:VCALENDAR