BEGIN:VCALENDAR
VERSION:2.0
PRODID:-//wp-events-plugin.com//7.2.3.1//EN
TZID:Europe/Berlin
X-WR-TIMEZONE:Europe/Berlin
BEGIN:VEVENT
UID:1938@detmold-lutherisch.de
DTSTART;TZID=Europe/Berlin:20260714T080000
DTEND;TZID=Europe/Berlin:20260714T190000
DTSTAMP:20260415T141854Z
URL:https://www.detmold-lutherisch.de/termine/gemeindeausflug-2026/
SUMMARY:Gemeindeausflug 2026
DESCRIPTION:\nAm Dienstag\, 14. Juli 2026\, möchten wir wieder gemeinsam m
 it der Gemeinde Detmold-Ost einen schönen Gemeindeausflug unternehmen.\n\
 n\n\nMerken Sie sich diesen Termin gerne schon einmal vor!\n\n\n\nDas gena
 ue Ausflugsziel sowie weitere Informationen zu unserem Tagesausflug geben 
 wir in der Sommerausgabe des Gemeindebriefes Ende Mai bekannt.\n\n\n\nWir 
 freuen uns schon jetzt auf einen erlebnisreichen Tag und viele Mitfahrende
 !\n
CATEGORIES:Aktion,Musik, Film, Kunst und Kultur
END:VEVENT
BEGIN:VTIMEZONE
TZID:Europe/Berlin
X-LIC-LOCATION:Europe/Berlin
BEGIN:DAYLIGHT
DTSTART:20260329T030000
TZOFFSETFROM:+0100
TZOFFSETTO:+0200
TZNAME:CEST
END:DAYLIGHT
END:VTIMEZONE
END:VCALENDAR