BEGIN:VCALENDAR
VERSION:2.0
PRODID:-//wp-events-plugin.com//7.2.3.1//EN
TZID:Europe/Berlin
X-WR-TIMEZONE:Europe/Berlin
BEGIN:VEVENT
UID:1920@detmold-lutherisch.de
DTSTART;TZID=Europe/Berlin:20260415T093000
DTEND;TZID=Europe/Berlin:20260415T113000
DTSTAMP:20260326T160108Z
URL:https://www.detmold-lutherisch.de/termine/fruehstueck-60-23/
SUMMARY:Frühstück 60 +
DESCRIPTION:
CATEGORIES:Gottesdienste St. Michael
LOCATION:Gemeindehaus ev.-luth. Gemeinde St. Michael\, Im Kampe 16\, Hiddes
 en\, 32760\, Deutschland
GEO:51.9232553;8.851032199999963
X-APPLE-STRUCTURED-LOCATION;VALUE=URI;X-ADDRESS=Im Kampe 16\, Hiddesen\, 32
 760\, Deutschland;X-APPLE-RADIUS=100;X-TITLE=Gemeindehaus ev.-luth. Gemein
 de St. Michael:geo:51.9232553,8.851032199999963
END:VEVENT
BEGIN:VTIMEZONE
TZID:Europe/Berlin
X-LIC-LOCATION:Europe/Berlin
BEGIN:DAYLIGHT
DTSTART:20260329T030000
TZOFFSETFROM:+0100
TZOFFSETTO:+0200
TZNAME:CEST
END:DAYLIGHT
END:VTIMEZONE
END:VCALENDAR