BEGIN:VCALENDAR
VERSION:2.0
PRODID:-//wp-events-plugin.com//7.2.3.1//EN
TZID:Europe/Berlin
X-WR-TIMEZONE:Europe/Berlin
BEGIN:VEVENT
UID:1897@detmold-lutherisch.de
DTSTART;TZID=Europe/Berlin:20260524T150000
DTEND;TZID=Europe/Berlin:20260524T160000
DTSTAMP:20260120T112722Z
URL:https://www.detmold-lutherisch.de/termine/feuer-werke-geistvolle-chorm
 usik-zu-pfingsten/
SUMMARY:Feuer-Werke – Geistvolle Chormusik zu Pfingsten
DESCRIPTION:\nMit seinem Pfingstprogramm „Feuer-Werke“ spannt der Kamme
 rchor der Berliner Domkantorei einen feurigen Bogen durch fünf Jahrhunder
 te Chormusik. Von der festlichen Mehrchörigkeit Giovanni Gabrielis bis zu
  den barocken Klanggeflechten Johann Sebastian Bachs erklingt Musik\, die 
 jubelnd das Pfingstfest feiert. Zeitgenössische Werke von Wolfram Buchenb
 erg\, Ivo Antognini\, Becky McGlade und Alice Parker eröffnen neue Ausdru
 cksräume\, die mal meditativ\, mal rhythmisch pulsierend die Geistkraft b
 esingen. Mit einer lodernden Vielfalt an Stilen und Klangfarben entstehen 
 abwechslungsreiche Hörerlebnisse\, die Köpfe und Herzen anrühren. Herzl
 iche Einladung zu einem virtuosen Konzertprogramm voll klangsinnlicher Cho
 rmusik bei freiem Eintritt!\n
CATEGORIES:Musik, Film, Kunst und Kultur
LOCATION:Martin-Luther-Kirche\, Schülerstraße 12\, Detmold\, Nordrhein-We
 stfalen\, 32756\, Lippe\, Deutschland
GEO:51.9346822;8.88075559999993
X-APPLE-STRUCTURED-LOCATION;VALUE=URI;X-ADDRESS=Schülerstraße 12\, Detmol
 d\, Nordrhein-Westfalen\, 32756\, Lippe\, Deutschland;X-APPLE-RADIUS=100;X
 -TITLE=Martin-Luther-Kirche:geo:51.9346822,8.88075559999993
END:VEVENT
BEGIN:VTIMEZONE
TZID:Europe/Berlin
X-LIC-LOCATION:Europe/Berlin
BEGIN:DAYLIGHT
DTSTART:20260329T030000
TZOFFSETFROM:+0100
TZOFFSETTO:+0200
TZNAME:CEST
END:DAYLIGHT
END:VTIMEZONE
END:VCALENDAR