BEGIN:VCALENDAR
VERSION:2.0
PRODID:-//wp-events-plugin.com//7.2.3.1//EN
TZID:Europe/Berlin
X-WR-TIMEZONE:Europe/Berlin
BEGIN:VEVENT
UID:494@detmold-lutherisch.de
DTSTART;TZID=Europe/Berlin:20220106T190000
DTEND;TZID=Europe/Berlin:20220106T203000
DTSTAMP:20220104T180600Z
URL:https://www.detmold-lutherisch.de/termine/festgottesdienst-zur-eroeffn
 ung-des-jubilaeumsjahres/
SUMMARY:Epiphanias-Gottesdienst FINDET STATT - anschließender Empfang ENTF
 ÄLLT
DESCRIPTION:Es musiziert das Vokalensemble unter der Leitung von Heide Mül
 ler und Max Jenkins an der Orgel
CATEGORIES:Besondere Gottesdienste,Feste und Feiern
LOCATION:Martin-Luther-Kirche\, Schülerstraße 12\, Detmold\, Nordrhein-We
 stfalen\, 32756\, Lippe\, Deutschland
GEO:51.9346822;8.88075559999993
X-APPLE-STRUCTURED-LOCATION;VALUE=URI;X-ADDRESS=Schülerstraße 12\, Detmol
 d\, Nordrhein-Westfalen\, 32756\, Lippe\, Deutschland;X-APPLE-RADIUS=100;X
 -TITLE=Martin-Luther-Kirche:geo:51.9346822,8.88075559999993
END:VEVENT
BEGIN:VTIMEZONE
TZID:Europe/Berlin
X-LIC-LOCATION:Europe/Berlin
BEGIN:STANDARD
DTSTART:20211031T020000
TZOFFSETFROM:+0200
TZOFFSETTO:+0100
TZNAME:CET
END:STANDARD
END:VTIMEZONE
END:VCALENDAR