BEGIN:VCALENDAR
VERSION:2.0
PRODID:-//wp-events-plugin.com//7.2.3.1//EN
TZID:Europe/Berlin
X-WR-TIMEZONE:Europe/Berlin
BEGIN:VEVENT
UID:1907@detmold-lutherisch.de
DTSTART;TZID=Europe/Berlin:20260511T193000
DTEND;TZID=Europe/Berlin:20260511T203000
DTSTAMP:20260214T184622Z
URL:https://www.detmold-lutherisch.de/termine/europakonzert-uhrzeit-wird-n
 och-bekannt-gegeben/
SUMMARY:MUSIK ZUM EUROPATAG
DESCRIPTION:\nSeit dem Jahr 2016 trägt das Stadtgymnasium Detmold dank der
  erfolgreichen Zertifizierung durch das Land Nordrhein-Westfalen den Titel
  „Europaschule“. Damit werden die besonderen Leistungen der Schule in 
 der Förderung fremdsprachlicher und interkultureller Kompetenzen gewürdi
 gt. Der Zielsetzung\, das kulturell Verbindende hervorzuheben\, widmet sic
 h die&nbsp\; „Musik zum Europatag“ am Montag\, d. 11. Mai 2026 um 19:3
 0 Uhr in der Martin-Luther-Kirche. Alle beteiligten Künstler freuen sich 
 darauf\, dem Publikum auch in diesem Jahr ein abwechslungsreiches Konzert 
 zu Gehör bringen zu dürfen: Auf dem Programm stehen dabei Kompositionen 
 von der Renaissance bis zur Moderne\, dargeboten von Schülerinnen und Sch
 ülern sowie Menschen aus dem Umfeld der Europaschule Stadtgymnasium Detmo
 ld.\n\n\n\nDer Eintritt ist frei\, am Ausgang erfolgt eine Kollekte.\n\n\n
 \n\n\n\n\n\n\n\n\n\n
CATEGORIES:Musik, Film, Kunst und Kultur
LOCATION:Martin-Luther-Kirche\, Schülerstraße 12\, Detmold\, Nordrhein-We
 stfalen\, 32756\, Lippe\, Deutschland
GEO:51.9346822;8.88075559999993
X-APPLE-STRUCTURED-LOCATION;VALUE=URI;X-ADDRESS=Schülerstraße 12\, Detmol
 d\, Nordrhein-Westfalen\, 32756\, Lippe\, Deutschland;X-APPLE-RADIUS=100;X
 -TITLE=Martin-Luther-Kirche:geo:51.9346822,8.88075559999993
END:VEVENT
BEGIN:VTIMEZONE
TZID:Europe/Berlin
X-LIC-LOCATION:Europe/Berlin
BEGIN:DAYLIGHT
DTSTART:20260329T030000
TZOFFSETFROM:+0100
TZOFFSETTO:+0200
TZNAME:CEST
END:DAYLIGHT
END:VTIMEZONE
END:VCALENDAR