BEGIN:VCALENDAR
VERSION:2.0
PRODID:-//wp-events-plugin.com//7.2.3.1//EN
TZID:Europe/Berlin
X-WR-TIMEZONE:Europe/Berlin
BEGIN:VEVENT
UID:1893@detmold-lutherisch.de
DTSTART;TZID=Europe/Berlin:20260424T190000
DTEND;TZID=Europe/Berlin:20260424T200000
DTSTAMP:20260214T185328Z
URL:https://www.detmold-lutherisch.de/termine/deutsch-franzoesische-begegn
 ung-3-konzert-des-orgelfruehlings-2026/
SUMMARY:„Deutsch-französische Begegnung“ 3. Konzert des Orgelfrühling
 s 2026
DESCRIPTION:\nDie ausgewählten Orgelwerke stellen gewissermaßen eine Deut
 sch-französische Begegnung&nbsp\;auf musikalischer Ebene dar.&nbsp\;Eine 
 Besonderheit und gleichermaßen eine Rarität stellen Alexandre Guilmants 
 Variationen über "Was Gott tut\, das ist wohlgetan" dar\, denn innerhalb 
 der französischen Orgelromantik war es völlig ungewöhnlich\, sich einem
  explizit deutsch-protestantischen Kirchenlied zu widmen. Darüber hinaus 
 umfasst das Programm u.a. Kompositionen von Maurice Duruflé (Orgel-Transk
 riptionen von Bach‘schen Choralbearbeitungen).&nbsp\;Neben solchermaßen
  glückhaften Konjunktionen verschweigt die Werkauswahl nicht den konfront
 ativen Aspekt&nbsp\;deutsch-französischer Vergangenheit:&nbsp\;Den Schwer
 punkt des Konzertes bilden die&nbsp\;Trois Dances&nbsp\;(Drei Tänze) von 
 Jehan Alain\, in dessen Leben sich die ganze Tragik der deutsch-französis
 chen Geschichte spiegelt. Alain wurde 1911 bei Paris geboren und ist als K
 radfahrer am 20.Juni 1940 an der Front des Zweiten Weltkriegs bei Saumur g
 efallen. Die&nbsp\;Trois Dances&nbsp\;sind sein größtes und wichtigstes 
 Werk\; sie stellen gleichsam sein musikalisches Testament dar. Die Orgelfa
 ssung der ursprünglich für Orchester entworfenen Tänze gab Alain wenige
  Tage vor seinem Tod einem Kurier mit nach Paris. Die&nbsp\;Trois Dances\,
  die von Ulrike von der Linden zu den Orgelklängen tänzerisch dargestell
 t und somit sinnfällig visualisiert werden\, sind ein großes Triptychon 
 über Leben und Tod. In den ersten beiden Sätzen werden die elementaren\,
  menschlichen Grundbefindlichkeiten "Freude" ("Joies") und Trauer ("Deuils
 ") zunächst isoliert zum Ausdruck gebracht\; dann - im dritten Tanz - kom
 mt es zum "Kampf" ("Luttes") der Gegensätze\, der schließlich zu einer e
 indrucksvollen Schlussapotheose führt. Der Hörer muss für sich entschei
 den\, wie für ihn die Konfrontation ausgeht.\n\n\n\nDIE KÜNSTLER:\n\n\n\
 n\nMichael Schmidt hat neben seiner 35 Jahre währenden Tätigkeit als Org
 anist in der ev.-luth.Kirche in St. Michael im Kampe\, Detmold-Hiddesen\, 
 Auftritte im In – und Ausland\, leitet preisgekrönte Chöre\, wirkt als
  Sänger professionellen Vokalensembles und ist pädagogische an der Europ
 aschule Stadtgymnasium Detmold tätig mit den Fächern Musik und Geschicht
 e.\n\n\n\nUlrike von der Linden ist seit vielen Jahrzehnten Tänzerin und 
 Choreografin in Detmold mitzahlreichen Projekten und Auftritten in Verbind
 ung mit Livemusik und bildenden Künsten im In –und Ausland\, mehrfach u
 nterstützt durch öffentliche Förderungen für künstlerische Arbeit. Al
 sTanzpädagogin leitet sie Kurse und Workshops für Modern Dance und Authe
 ntic Movement.\n\n\n\n\nDer Eintritt ist frei. Um Spenden wird gebeten.\n
CATEGORIES:Musik, Film, Kunst und Kultur,Orgelkonzert
LOCATION:Martin-Luther-Kirche\, Schülerstraße 12\, Detmold\, Nordrhein-We
 stfalen\, 32756\, Lippe\, Deutschland
GEO:51.9346822;8.88075559999993
X-APPLE-STRUCTURED-LOCATION;VALUE=URI;X-ADDRESS=Schülerstraße 12\, Detmol
 d\, Nordrhein-Westfalen\, 32756\, Lippe\, Deutschland;X-APPLE-RADIUS=100;X
 -TITLE=Martin-Luther-Kirche:geo:51.9346822,8.88075559999993
END:VEVENT
BEGIN:VTIMEZONE
TZID:Europe/Berlin
X-LIC-LOCATION:Europe/Berlin
BEGIN:DAYLIGHT
DTSTART:20260329T030000
TZOFFSETFROM:+0100
TZOFFSETTO:+0200
TZNAME:CEST
END:DAYLIGHT
END:VTIMEZONE
END:VCALENDAR