BEGIN:VCALENDAR
VERSION:2.0
PRODID:-//wp-events-plugin.com//7.2.3.1//EN
TZID:Europe/Berlin
X-WR-TIMEZONE:Europe/Berlin
BEGIN:VEVENT
UID:1905@detmold-lutherisch.de
DTSTART;TZID=Europe/Berlin:20260419T180000
DTEND;TZID=Europe/Berlin:20260419T190000
DTSTAMP:20260413T095058Z
URL:https://www.detmold-lutherisch.de/termine/chorkonzert-martinis-kampino
 s-voicekamp-und-myc-laden-ein/
SUMMARY:SPRING SOUNDS | Frühlingskonzert mit Chören der Evangelischen Sin
 gschule Detmold
DESCRIPTION:\nMax Jenkins (Leitung)\n\n\n\nDer Eintritt ist frei. Um Spende
 n wird gebeten.\n\n\n\nVier Chöre der Evangelischen Singschule Detmold\, 
 in der wöchentlich über 100 Kinder und Jugendliche im Chorsingen ausgebi
 ldet werden\, laden zu einem Frühlingskonzert mit jungen Stimmen ein. Die
  Kinderchöre&nbsp\;Martinis&nbsp\;(Standort Detmold\, Martin-Luther-Kirch
 e) und&nbsp\;Kampinos&nbsp\;(Standort Hiddesen\, St. Michael im Kampe) ver
 einen Sängerinnen und Sänger im Alter von 9 bis 12 Jahren. Die Kinder sa
 mmeln hier ihre ersten Erfahrungen im ein- bis dreistimmigen Chorgesang. I
 m April nehmen sie am Wettbewerb&nbsp\;„Jugend singt“&nbsp\;in Essen t
 eil.\n\n\n\nDer Jugendchor&nbsp\;VoiceKamp\, der bereits in Brakel zu Gast
  war\, war zuletzt gemeinsam mit dem Jugendchor&nbsp\;MYC&nbsp\;bei region
 alen und überregionalen Konzerten in Detmold\, Marienmünster und Belgien
  zu hören. Auch der Jugendchor MYC wird im April am Wettbewerb&nbsp\;„J
 ugend singt“&nbsp\;teilnehmen.&nbsp\;MYC&nbsp\;und&nbsp\;VoiceKamp&nbsp\
 ;werden ein vielseitiges Programm mit Solo- und Chorstücken aus dem Pop-B
 ereich bieten\, darunter anspruchsvolle a-capella Balladen wie „Light in
  the Hallway“ (Pentatonix)\, aber auch mitreißende\, aktuelle Hits wie 
 „Don´t Kill My Vibe“ (Tove Lo).&nbsp\;\n\n\n\nDas gesamte Konzert spa
 nnt einen großen Bogen von geistlicher Musik und Traditionals hin zu viel
 en verschiedenen Popchor-Klängen.\n
ATTACH;FMTTYPE=image/jpeg:https://www.detmold-lutherisch.de/wp-content/upl
 oads/2026/02/Plakat-Detmold-Spring-Sounds-1-scaled.png
CATEGORIES:Musik, Film, Kunst und Kultur
LOCATION:Martin-Luther-Kirche\, Schülerstraße 12\, Detmold\, Nordrhein-We
 stfalen\, 32756\, Lippe\, Deutschland
GEO:51.9346822;8.88075559999993
X-APPLE-STRUCTURED-LOCATION;VALUE=URI;X-ADDRESS=Schülerstraße 12\, Detmol
 d\, Nordrhein-Westfalen\, 32756\, Lippe\, Deutschland;X-APPLE-RADIUS=100;X
 -TITLE=Martin-Luther-Kirche:geo:51.9346822,8.88075559999993
END:VEVENT
BEGIN:VTIMEZONE
TZID:Europe/Berlin
X-LIC-LOCATION:Europe/Berlin
BEGIN:DAYLIGHT
DTSTART:20260329T030000
TZOFFSETFROM:+0100
TZOFFSETTO:+0200
TZNAME:CEST
END:DAYLIGHT
END:VTIMEZONE
END:VCALENDAR