BEGIN:VCALENDAR
VERSION:2.0
PRODID:-//wp-events-plugin.com//7.2.3.1//EN
TZID:Europe/Berlin
X-WR-TIMEZONE:Europe/Berlin
BEGIN:VEVENT
UID:1936@detmold-lutherisch.de
DTSTART;TZID=Europe/Berlin:20260711T190000
DTEND;TZID=Europe/Berlin:20260711T200000
DTSTAMP:20260409T112856Z
URL:https://www.detmold-lutherisch.de/termine/brunn-aller-freuden/
SUMMARY:„Brunn aller Freuden“
DESCRIPTION:\nSommerzeit ist Freudenzeit\, so auch in der Kirchenmusik. Da 
 kann man sich so schön von den Tönen tragen lassen\, und der Alltag wirk
 t gleich wie Urlaub.\n\n\n\nIn der zweiten Juliwoche will das Ensemble Fil
 iae Ecclesiae (Helena Joachim und Kristel Neitsov-Mauer) die Freude\, wie 
 die Musikerinnen selbst die Musik erleben\, weitergeben. Das Programm wird
  vielfältig: es werden Volksmelodien aus der Ostseeküste mit den Liedern
  aus Irland gewebt und zusammen mit klassischen Musikstücken der Moderne 
 aus Estland für Klavier\, Orgel\, Querflöte und Harfe dargeboten. Das Ge
 webe wird mit Kirchenliedern gepickt\, das ungewohnterweise meditativ und 
 kräftig zugleich wirkt.\n\n\n\nHelena Joachim (Harfe\, verschiedene Flöt
 en\, Gesang) ist eine estnische Musikerin aus Schlangen\, wo sie seit 2019
  lebt. Die studierte Finnougristin spielt seit ihrer Kindheit verschiedene
  Instrumente und ist heute Lehrkraft für Harfe\, Querflöte und Klavier. 
 Ihr Repertoire reicht von den traditionellen Melodien aus verschiedenen L
 ändern und alten Musik bis moderne Kompositionen und Bearbeitungen von po
 pulären Liedern.\n\n\n\nKristel Neitsov-Mauer (Orgel\, Klavier\, Gesang)\
 , geboren in Estland\, ist Theologin (Universität Tartu) und Kirchenmusik
 erin (Nordkirche in Deutschland). Sie arbeitet als Kantorin im Main-Taunus
 -Kreis\, wo sie auch Gesangsunterricht bei Britta Jacobus genossen hat. Ih
 r besonderes Interesse gilt der Hymnologie (Gesangbuchkunde) und sie ist M
 itglied der Internationalen Arbeitsgemeinschaft für Hymnologie und der Pa
 ul-Gerhardt-Gesellschaft.&nbsp\;&nbsp\;\n\n\n\nDer Eintritt ist frei. Um S
 penden wird gebeten.\n
CATEGORIES:Musik, Film, Kunst und Kultur
LOCATION:Martin-Luther-Kirche\, Schülerstraße 12\, Detmold\, Nordrhein-We
 stfalen\, 32756\, Lippe\, Deutschland
GEO:51.9346822;8.88075559999993
X-APPLE-STRUCTURED-LOCATION;VALUE=URI;X-ADDRESS=Schülerstraße 12\, Detmol
 d\, Nordrhein-Westfalen\, 32756\, Lippe\, Deutschland;X-APPLE-RADIUS=100;X
 -TITLE=Martin-Luther-Kirche:geo:51.9346822,8.88075559999993
END:VEVENT
BEGIN:VTIMEZONE
TZID:Europe/Berlin
X-LIC-LOCATION:Europe/Berlin
BEGIN:DAYLIGHT
DTSTART:20260329T030000
TZOFFSETFROM:+0100
TZOFFSETTO:+0200
TZNAME:CEST
END:DAYLIGHT
END:VTIMEZONE
END:VCALENDAR