BEGIN:VCALENDAR
VERSION:2.0
PRODID:-//wp-events-plugin.com//7.2.3.1//EN
TZID:Europe/Berlin
X-WR-TIMEZONE:Europe/Berlin
BEGIN:VEVENT
UID:1898@detmold-lutherisch.de
DTSTART;TZID=Europe/Berlin:20260525T110000
DTEND;TZID=Europe/Berlin:20260525T120000
DTSTAMP:20260214T184807Z
URL:https://www.detmold-lutherisch.de/termine/alexandre-guilmant-messe-in-
 es-dur-op-11/
SUMMARY:Alexandre Guilmant "Messe in Es-Dur" Op.11
DESCRIPTION:\nIm Rahmen des Festgottesdienstes zum Pfingstmontag.\n\n\n\nMa
 rtin-Luther-Kantorei\n\n\n\nMeike Buchbinder (Sopran)\n\n\n\nRudolf Reimer
  (Tenor)\n\n\n\nHilko Engberts (Bass)\n\n\n\nMax Jenkins - Orgel\n\n\n\nMa
 ja Vollstedt - Leitung \n
CATEGORIES:Musik, Film, Kunst und Kultur
LOCATION:Martin-Luther-Kirche\, Schülerstraße 12\, Detmold\, Nordrhein-We
 stfalen\, 32756\, Lippe\, Deutschland
GEO:51.9346822;8.88075559999993
X-APPLE-STRUCTURED-LOCATION;VALUE=URI;X-ADDRESS=Schülerstraße 12\, Detmol
 d\, Nordrhein-Westfalen\, 32756\, Lippe\, Deutschland;X-APPLE-RADIUS=100;X
 -TITLE=Martin-Luther-Kirche:geo:51.9346822,8.88075559999993
END:VEVENT
BEGIN:VTIMEZONE
TZID:Europe/Berlin
X-LIC-LOCATION:Europe/Berlin
BEGIN:DAYLIGHT
DTSTART:20260329T030000
TZOFFSETFROM:+0100
TZOFFSETTO:+0200
TZNAME:CEST
END:DAYLIGHT
END:VTIMEZONE
END:VCALENDAR