BEGIN:VCALENDAR
VERSION:2.0
PRODID:-//wp-events-plugin.com//7.2.3.1//EN
TZID:Europe/Berlin
X-WR-TIMEZONE:Europe/Berlin
BEGIN:VEVENT
UID:1894@detmold-lutherisch.de
DTSTART;TZID=Europe/Berlin:20260501T190000
DTEND;TZID=Europe/Berlin:20260501T200000
DTSTAMP:20260214T185007Z
URL:https://www.detmold-lutherisch.de/termine/4-konzert-des-orgelfruehling
 s-2026/
SUMMARY:"Traumtanz" - 4. Konzert des Orgelfrühlings 2026
DESCRIPTION:\nWerke von Alain\, Skrjabin und Improvisationen\n\n\n\nIn dies
 em Konzert fließt die Zeit nicht\, wie wir es gewohnt sind: In den kleine
 n Tänzen von Jehan Alain geschehen merkwürdige Zeitsprünge und die Bewe
 gungen wirken verzerrt und geisterhaft\, wie in fantastischen Traum. In Sk
 rjabins Musik entsteht ekstatische Ruhe und wilde Raserei zuweilen gleichz
 eitig. Schließlich wird die musikalische Zeit auch zum Thema von Fabian L
 uchterhandts Improvisationen: Tänze\, die erst im Moment ihres Erklingens
  entstehen\, erzeugen ein ganz eigentümliches Zeitgefühl… \n\n\n\nFab
 ian Luchterhandt (Orgel\, Klavier &amp\; Moderation)\n\n\n\nDer Eintritt i
 st frei. Um Spenden wird gebeten.\n
CATEGORIES:Musik, Film, Kunst und Kultur,Orgelkonzert
LOCATION:Martin-Luther-Kirche\, Schülerstraße 12\, Detmold\, Nordrhein-We
 stfalen\, 32756\, Lippe\, Deutschland
GEO:51.9346822;8.88075559999993
X-APPLE-STRUCTURED-LOCATION;VALUE=URI;X-ADDRESS=Schülerstraße 12\, Detmol
 d\, Nordrhein-Westfalen\, 32756\, Lippe\, Deutschland;X-APPLE-RADIUS=100;X
 -TITLE=Martin-Luther-Kirche:geo:51.9346822,8.88075559999993
END:VEVENT
BEGIN:VTIMEZONE
TZID:Europe/Berlin
X-LIC-LOCATION:Europe/Berlin
BEGIN:DAYLIGHT
DTSTART:20260329T030000
TZOFFSETFROM:+0100
TZOFFSETTO:+0200
TZNAME:CEST
END:DAYLIGHT
END:VTIMEZONE
END:VCALENDAR